BEGIN:VCALENDAR
VERSION:2.0
PRODID:-//Ulla Jasmin - ECPv6.15.20//NONSGML v1.0//EN
CALSCALE:GREGORIAN
METHOD:PUBLISH
X-WR-CALNAME:Ulla Jasmin
X-ORIGINAL-URL:https://www.ulla-jasmin.de
X-WR-CALDESC:Veranstaltungen für Ulla Jasmin
REFRESH-INTERVAL;VALUE=DURATION:PT1H
X-Robots-Tag:noindex
X-PUBLISHED-TTL:PT1H
BEGIN:VTIMEZONE
TZID:Europe/Berlin
BEGIN:DAYLIGHT
TZOFFSETFROM:+0100
TZOFFSETTO:+0200
TZNAME:CEST
DTSTART:20250330T010000
END:DAYLIGHT
BEGIN:STANDARD
TZOFFSETFROM:+0200
TZOFFSETTO:+0100
TZNAME:CET
DTSTART:20251026T010000
END:STANDARD
BEGIN:DAYLIGHT
TZOFFSETFROM:+0100
TZOFFSETTO:+0200
TZNAME:CEST
DTSTART:20260329T010000
END:DAYLIGHT
BEGIN:STANDARD
TZOFFSETFROM:+0200
TZOFFSETTO:+0100
TZNAME:CET
DTSTART:20261025T010000
END:STANDARD
BEGIN:DAYLIGHT
TZOFFSETFROM:+0100
TZOFFSETTO:+0200
TZNAME:CEST
DTSTART:20270328T010000
END:DAYLIGHT
BEGIN:STANDARD
TZOFFSETFROM:+0200
TZOFFSETTO:+0100
TZNAME:CET
DTSTART:20271031T010000
END:STANDARD
END:VTIMEZONE
BEGIN:VEVENT
DTSTART;VALUE=DATE:20260424
DTEND;VALUE=DATE:20260427
DTSTAMP:20260424T133432
CREATED:20260119T161611Z
LAST-MODIFIED:20260119T162516Z
UID:3370-1776988800-1777247999@www.ulla-jasmin.de
SUMMARY:Lebensfreude Messe Hamburg 2026
DESCRIPTION:Weitere Informationen findet Ihr hier: \nLebensfreudemessen Hamburg
URL:https://www.ulla-jasmin.de/event/lebensfreude-messe-hamburg-2026/
CATEGORIES:Messen
ATTACH;FMTTYPE=image/png:https://www.ulla-jasmin.de/wp-content/uploads/2024/07/Lebensfreude-Messen.png
END:VEVENT
BEGIN:VEVENT
DTSTART;TZID=Europe/Berlin:20260509T200000
DTEND;TZID=Europe/Berlin:20260509T210000
DTSTAMP:20260424T133432
CREATED:20260120T221229Z
LAST-MODIFIED:20260120T221229Z
UID:3416-1778356800-1778360400@www.ulla-jasmin.de
SUMMARY:Die heilenden Kraft der Hände. Sei ein Kanal der göttlichen Liebe
DESCRIPTION:VideoChat mit Ulla Jasmin „Workshop & Heilmeditation“ im kostenlosen Member-Chatroom \nMitglieder An- & Abmeldung
URL:https://www.ulla-jasmin.de/event/die-heilenden-kraft-der-haende-sei-ein-kanal-der-goettlichen-liebe/
CATEGORIES:VideoChats
ATTACH;FMTTYPE=image/jpeg:https://www.ulla-jasmin.de/wp-content/uploads/2023/06/UllaVideoChatMember.jpg
END:VEVENT
BEGIN:VEVENT
DTSTART;VALUE=DATE:20260523
DTEND;VALUE=DATE:20260525
DTSTAMP:20260424T133432
CREATED:20260120T222053Z
LAST-MODIFIED:20260120T222053Z
UID:3418-1779494400-1779667199@www.ulla-jasmin.de
SUMMARY:2-tägiges Pfingstseminar in Uderns / Tirol
DESCRIPTION:Pfingstseminar 2 Tage (10-18 Uhr & 10-17 Uhr) \nAuf der suche nach dem heiligen Gral in Dir\nReferentin Ulla Jasmin\n \nIn jedem Menschen ist ein Kelch gefüllt mit dem Wasser des Lebens.\nDieses Wasser ist voller Kraft seinen Weg zu gehen. In Liebe und Vertrauen. \nAusgleich: 698\,- € \nApart Stoanerhof in Uderns\nÜbernachtung 50\,-€ \n 
URL:https://www.ulla-jasmin.de/event/2-taegiges-pfingstseminar-in-uderns-tirol/
LOCATION:Apart Stoanerhof\, Zeislpuintweg 2\, Uderns\, 6271\, Österreich
CATEGORIES:Seminare
ATTACH;FMTTYPE=image/jpeg:https://www.ulla-jasmin.de/wp-content/uploads/2026/01/grail-8787483_1280.jpg
END:VEVENT
BEGIN:VEVENT
DTSTART;TZID=Europe/Berlin:20260609T200000
DTEND;TZID=Europe/Berlin:20260609T210000
DTSTAMP:20260424T133432
CREATED:20260120T222332Z
LAST-MODIFIED:20260120T222332Z
UID:3421-1781035200-1781038800@www.ulla-jasmin.de
SUMMARY:Lerne deine Wurzel zu spüren
DESCRIPTION:VideoChat mit Ulla Jasmin „Workshop & Wurzelmeditation“ im kostenlosen Member-Chatroom \nMitglieder An- & Abmeldung
URL:https://www.ulla-jasmin.de/event/lerne-deine-wurzel-zu-spueren/
CATEGORIES:VideoChats
ATTACH;FMTTYPE=image/jpeg:https://www.ulla-jasmin.de/wp-content/uploads/2023/06/UllaVideoChatMember.jpg
END:VEVENT
BEGIN:VEVENT
DTSTART;VALUE=DATE:20260618
DTEND;VALUE=DATE:20260622
DTSTAMP:20260424T133432
CREATED:20251118T103153Z
LAST-MODIFIED:20251118T103352Z
UID:3321-1781740800-1782086399@www.ulla-jasmin.de
SUMMARY:Spirituelle Geistheilerausbildung 2026 | Modul 2
DESCRIPTION:Nur in der Liebe kann der göttliche Geist wirken\, unmögliches möglich werden zu lassen. In diesem 2025\, ein Jahr des Neuanfangs\, können sich Menschen wieder begegnen\, wo vorher Stillstand und Starre gewesen ist. Viele Tore sind geöffnet worden\, doch wie gehe ich damit um? Wie möchte ich mein Leben neu gestalten? In dieser Spirituellen Geist-Heiler-Ausbildung lernen wir wieder Liebe zu geben. \nModul 2: \,\,WAHRNEHMUNGEN-SPÜREN-FÜHLEN-RIECHEN- SCHMECKEN“ \nweitere Infos
URL:https://www.ulla-jasmin.de/event/spirituelle-geistheilerausbildung-2026-2/
LOCATION:Apart Stoanerhof\, Zeislpuintweg 2\, Uderns\, 6271\, Österreich
CATEGORIES:Ausbildungen,G-Ausbildung-M2
ATTACH;FMTTYPE=image/jpeg:https://www.ulla-jasmin.de/wp-content/uploads/2023/06/clouds-g2ba9fb812_1280.jpg
ORGANIZER;CN="Ulla Jasmin Fischer":MAILTO:ullajasmin@icloud.com
END:VEVENT
BEGIN:VEVENT
DTSTART;VALUE=DATE:20260807
DTEND;VALUE=DATE:20260810
DTSTAMP:20260424T133432
CREATED:20260119T161758Z
LAST-MODIFIED:20260119T162501Z
UID:3374-1786060800-1786319999@www.ulla-jasmin.de
SUMMARY:Lebensfreude Messe Lübeck-Travemünde 2026
DESCRIPTION:Weitere Informationen findet Ihr hier: \nLebensfreudefestival 2026
URL:https://www.ulla-jasmin.de/event/lebensfreude-messe-luebeck-travemuende-2026/
CATEGORIES:Messen
ATTACH;FMTTYPE=image/png:https://www.ulla-jasmin.de/wp-content/uploads/2024/07/Lebensfreude-Messen.png
END:VEVENT
BEGIN:VEVENT
DTSTART;TZID=Europe/Berlin:20260818T200000
DTEND;TZID=Europe/Berlin:20260818T210000
DTSTAMP:20260424T133432
CREATED:20260120T222515Z
LAST-MODIFIED:20260120T222515Z
UID:3424-1787083200-1787086800@www.ulla-jasmin.de
SUMMARY:Erkenne deine innere Stimme in dir
DESCRIPTION:VideoChat mit Ulla Jasmin „Workshop & Heilmeditation“ im kostenlosen Member-Chatroom \nMitglieder An- & Abmeldung
URL:https://www.ulla-jasmin.de/event/erkenne-deine-innere-stimme-in-dir/
CATEGORIES:VideoChats
ATTACH;FMTTYPE=image/jpeg:https://www.ulla-jasmin.de/wp-content/uploads/2023/06/UllaVideoChatMember.jpg
END:VEVENT
BEGIN:VEVENT
DTSTART;VALUE=DATE:20260904
DTEND;VALUE=DATE:20260907
DTSTAMP:20260424T133432
CREATED:20260120T222604Z
LAST-MODIFIED:20260120T222858Z
UID:3427-1788480000-1788739199@www.ulla-jasmin.de
SUMMARY:Messe Natumeda Gesund & Glück 2026 | Ettlingen
DESCRIPTION:Weitere Informationen findet Ihr hier: \nMesse Ettlingen – Natumeda.de – Die Gesundheitsmesse
URL:https://www.ulla-jasmin.de/event/mess-natumeda-gesund-glueck-2026-ettlingen/
CATEGORIES:Messen
ATTACH;FMTTYPE=image/png:https://www.ulla-jasmin.de/wp-content/uploads/2025/08/Natumeda-Messelogo-300x180-1.png
END:VEVENT
BEGIN:VEVENT
DTSTART;VALUE=DATE:20260910
DTEND;VALUE=DATE:20260914
DTSTAMP:20260424T133432
CREATED:20241218T131645Z
LAST-MODIFIED:20251118T102636Z
UID:2953-1788998400-1789343999@www.ulla-jasmin.de
SUMMARY:Spirituelle Geistheilerausbildung 2026 | Modul 3
DESCRIPTION:Nur in der Liebe kann der göttliche Geist wirken\, unmögliches möglich werden zu lassen. In diesem 2025\, ein Jahr des Neuanfangs\, können sich Menschen wieder begegnen\, wo vorher Stillstand und Starre gewesen ist. Viele Tore sind geöffnet worden\, doch wie gehe ich damit um? Wie möchte ich mein Leben neu gestalten? In dieser Spirituellen Geist-Heiler-Ausbildung lernen wir wieder Liebe zu geben. \nModul 3: „TELEPATHIE“ \nweitere Infos
URL:https://www.ulla-jasmin.de/event/spirituelle-geistheilerausbildung-2026-3/
LOCATION:Apart Stoanerhof\, Zeislpuintweg 2\, Uderns\, 6271\, Österreich
CATEGORIES:Ausbildungen,G-Ausbildung-M3
ATTACH;FMTTYPE=image/jpeg:https://www.ulla-jasmin.de/wp-content/uploads/2023/06/clouds-g2ba9fb812_1280.jpg
ORGANIZER;CN="Ulla Jasmin Fischer":MAILTO:ullajasmin@icloud.com
END:VEVENT
BEGIN:VEVENT
DTSTART;VALUE=DATE:20261003
DTEND;VALUE=DATE:20261005
DTSTAMP:20260424T133432
CREATED:20260119T162218Z
LAST-MODIFIED:20260119T162414Z
UID:3379-1790985600-1791158399@www.ulla-jasmin.de
SUMMARY:Lebensfreude Messe Karlsruhe 2026
DESCRIPTION:Weitere Informationen findet Ihr hier: \nHerzlich Willkommen bei den Lebensfreude Messen
URL:https://www.ulla-jasmin.de/event/lebensfreude-messe-karlsruhe-2026/
CATEGORIES:Messen
ATTACH;FMTTYPE=image/png:https://www.ulla-jasmin.de/wp-content/uploads/2024/07/Lebensfreude-Messen.png
END:VEVENT
BEGIN:VEVENT
DTSTART;TZID=Europe/Berlin:20261016T200000
DTEND;TZID=Europe/Berlin:20261016T210000
DTSTAMP:20260424T133432
CREATED:20260120T223251Z
LAST-MODIFIED:20260120T223251Z
UID:3436-1792180800-1792184400@www.ulla-jasmin.de
SUMMARY:Du hast die Kraft mit positiven Gedanken dein Leben zu ändern
DESCRIPTION:VideoChat mit Ulla Jasmin „Workshop & Heilmeditation“ im kostenlosen Member-Chatroom \nMitglieder An- & Abmeldung
URL:https://www.ulla-jasmin.de/event/du-hast-die-kraft-mit-positiven-gedanken-dein-leben-zu-aendern/
CATEGORIES:VideoChats
ATTACH;FMTTYPE=image/jpeg:https://www.ulla-jasmin.de/wp-content/uploads/2023/06/UllaVideoChatMember.jpg
END:VEVENT
BEGIN:VEVENT
DTSTART;VALUE=DATE:20261024
DTEND;VALUE=DATE:20261026
DTSTAMP:20260424T133432
CREATED:20241218T134408Z
LAST-MODIFIED:20260119T162817Z
UID:2997-1792800000-1792972799@www.ulla-jasmin.de
SUMMARY:Lebensfreude Messe Radolfzell 2026
DESCRIPTION:Weitere Informationen findet Ihr hier: \nRadolfzell 2026
URL:https://www.ulla-jasmin.de/event/lebensfreude-messe-radolfzell-2026/
CATEGORIES:Messen
ATTACH;FMTTYPE=image/png:https://www.ulla-jasmin.de/wp-content/uploads/2024/07/Lebensfreude-Messen.png
END:VEVENT
BEGIN:VEVENT
DTSTART;TZID=Europe/Berlin:20261108T200000
DTEND;TZID=Europe/Berlin:20261108T210000
DTSTAMP:20260424T133432
CREATED:20260120T223438Z
LAST-MODIFIED:20260120T223438Z
UID:3439-1794168000-1794171600@www.ulla-jasmin.de
SUMMARY:Gleiches zieht gleiches an. Sei ein Magnet der Liebe
DESCRIPTION:VideoChat mit Ulla Jasmin „Workshop & Liebesmeditation“ im kostenlosen Member-Chatroom \nMitglieder An- & Abmeldung
URL:https://www.ulla-jasmin.de/event/gleiches-zieht-gleiches-an-sei-ein-magnet-der-liebe/
CATEGORIES:VideoChats
ATTACH;FMTTYPE=image/jpeg:https://www.ulla-jasmin.de/wp-content/uploads/2023/06/UllaVideoChatMember.jpg
END:VEVENT
BEGIN:VEVENT
DTSTART;VALUE=DATE:20261217
DTEND;VALUE=DATE:20261221
DTSTAMP:20260424T133432
CREATED:20251118T103408Z
LAST-MODIFIED:20251118T103524Z
UID:3326-1797465600-1797811199@www.ulla-jasmin.de
SUMMARY:Spirituelle Geistheilerausbildung 2026 | Modul 4
DESCRIPTION:Nur in der Liebe kann der göttliche Geist wirken\, unmögliches möglich werden zu lassen. In diesem 2025\, ein Jahr des Neuanfangs\, können sich Menschen wieder begegnen\, wo vorher Stillstand und Starre gewesen ist. Viele Tore sind geöffnet worden\, doch wie gehe ich damit um? Wie möchte ich mein Leben neu gestalten? In dieser Spirituellen Geist-Heiler-Ausbildung lernen wir wieder Liebe zu geben. \nModul 4: „Heilung auf allen Ebenen des Seins im Eins“ \nweitere Infos
URL:https://www.ulla-jasmin.de/event/spirituelle-geistheilerausbildung-2026-4/
LOCATION:Apart Stoanerhof\, Zeislpuintweg 2\, Uderns\, 6271\, Österreich
CATEGORIES:Ausbildungen,G-Ausbildung-M4
ATTACH;FMTTYPE=image/jpeg:https://www.ulla-jasmin.de/wp-content/uploads/2023/06/clouds-g2ba9fb812_1280.jpg
ORGANIZER;CN="Ulla Jasmin Fischer":MAILTO:ullajasmin@icloud.com
END:VEVENT
BEGIN:VEVENT
DTSTART;TZID=Europe/Berlin:20261218T200000
DTEND;TZID=Europe/Berlin:20261218T210000
DTSTAMP:20260424T133432
CREATED:20260120T223606Z
LAST-MODIFIED:20260120T223606Z
UID:3442-1797624000-1797627600@www.ulla-jasmin.de
SUMMARY:Ich bin glücklich dass ich die Liebe mit meinem Engel spüre.
DESCRIPTION:VideoChat mit Ulla Jasmin „Workshop & Engelmeditation“ im kostenlosen Member-Chatroom \nMitglieder An- & Abmeldung
URL:https://www.ulla-jasmin.de/event/ich-bin-gluecklich-dass-ich-die-liebe-mit-meinem-engel-spuere/
CATEGORIES:VideoChats
ATTACH;FMTTYPE=image/jpeg:https://www.ulla-jasmin.de/wp-content/uploads/2023/06/UllaVideoChatMember.jpg
END:VEVENT
END:VCALENDAR